BEGIN:VCALENDAR
VERSION:2.0
PRODID:-//Costa &amp; the BlueSpin - ECPv6.15.20//NONSGML v1.0//EN
CALSCALE:GREGORIAN
METHOD:PUBLISH
X-WR-CALNAME:Costa &amp; the BlueSpin
X-ORIGINAL-URL:https://costaandthebluespin.com
X-WR-CALDESC:Evenementen voor Costa &amp; the BlueSpin
REFRESH-INTERVAL;VALUE=DURATION:PT1H
X-Robots-Tag:noindex
X-PUBLISHED-TTL:PT1H
BEGIN:VTIMEZONE
TZID:UTC
BEGIN:STANDARD
TZOFFSETFROM:+0000
TZOFFSETTO:+0000
TZNAME:UTC
DTSTART:20230101T000000
END:STANDARD
END:VTIMEZONE
BEGIN:VEVENT
DTSTART;TZID=UTC:20251122T190000
DTEND;TZID=UTC:20251122T203000
DTSTAMP:20260422T123757
CREATED:20251006T201333Z
LAST-MODIFIED:20251121T062930Z
UID:482-1763838000-1763843400@costaandthebluespin.com
SUMMARY:LIVE at Merleyn
DESCRIPTION:
URL:https://costaandthebluespin.com/event/live-at-dap25/
END:VEVENT
BEGIN:VEVENT
DTSTART;TZID=UTC:20251031T220000
DTEND;TZID=UTC:20251031T230000
DTSTAMP:20260422T123757
CREATED:20251006T200747Z
LAST-MODIFIED:20251006T200747Z
UID:479-1761948000-1761951600@costaandthebluespin.com
SUMMARY:LIVE at Kulturhus De Borg
DESCRIPTION:
URL:https://costaandthebluespin.com/event/live-at-kulturhus-de-borg/
END:VEVENT
BEGIN:VEVENT
DTSTART;TZID=UTC:20251011T223000
DTEND;TZID=UTC:20251011T233000
DTSTAMP:20260422T123757
CREATED:20251006T194236Z
LAST-MODIFIED:20251006T194236Z
UID:476-1760221800-1760225400@costaandthebluespin.com
SUMMARY:LIVE at Muziekcafé De Lantaern
DESCRIPTION:
URL:https://costaandthebluespin.com/event/live-at-muziekcafe-de-lantaern/
END:VEVENT
BEGIN:VEVENT
DTSTART;TZID=UTC:20251003T200000
DTEND;TZID=UTC:20251003T220000
DTSTAMP:20260422T123757
CREATED:20250729T224742Z
LAST-MODIFIED:20250729T224742Z
UID:450-1759521600-1759528800@costaandthebluespin.com
SUMMARY:LIVE at Theater Onder de Molen
DESCRIPTION:
URL:https://costaandthebluespin.com/event/live-at-theater-onder-de-molen/
END:VEVENT
BEGIN:VEVENT
DTSTART;TZID=UTC:20250905T160000
DTEND;TZID=UTC:20250905T180000
DTSTAMP:20260422T123757
CREATED:20250729T222744Z
LAST-MODIFIED:20250729T222744Z
UID:443-1757088000-1757095200@costaandthebluespin.com
SUMMARY:LIVE at Wielercafé Doetinchem
DESCRIPTION:
URL:https://costaandthebluespin.com/event/live-at-wielercafe-doetinchem/
END:VEVENT
BEGIN:VEVENT
DTSTART;TZID=UTC:20241109T183000
DTEND;TZID=UTC:20241109T200000
DTSTAMP:20260422T123757
CREATED:20241101T124915Z
LAST-MODIFIED:20241101T124915Z
UID:408-1731177000-1731182400@costaandthebluespin.com
SUMMARY:DAP24
DESCRIPTION:
URL:https://costaandthebluespin.com/event/dap24/
END:VEVENT
BEGIN:VEVENT
DTSTART;TZID=UTC:20240724T210000
DTEND;TZID=UTC:20240724T210000
DTSTAMP:20260422T123757
CREATED:20240414T220756Z
LAST-MODIFIED:20240421T162810Z
UID:92-1721854800-1721854800@costaandthebluespin.com
SUMMARY:LIVE at  Theater Onder de Molen\, Vorden
DESCRIPTION:
URL:https://costaandthebluespin.com/event/live-at-https-www-theateronderdemolen-nl/
END:VEVENT
BEGIN:VEVENT
DTSTART;TZID=UTC:20240511T223000
DTEND;TZID=UTC:20240511T223000
DTSTAMP:20260422T123757
CREATED:20240430T122352Z
LAST-MODIFIED:20240430T143212Z
UID:242-1715466600-1715466600@costaandthebluespin.com
SUMMARY:LIVE at De Lantaern\, Zevenaar
DESCRIPTION:
URL:https://costaandthebluespin.com/event/live-at-de-lantaern-zevenaar/
END:VEVENT
BEGIN:VEVENT
DTSTART;TZID=UTC:20240510T203000
DTEND;TZID=UTC:20240510T203000
DTSTAMP:20260422T123757
CREATED:20240415T164346Z
LAST-MODIFIED:20240421T162852Z
UID:176-1715373000-1715373000@costaandthebluespin.com
SUMMARY:LIVE at Café Bij de Brouwer\, Duiven
DESCRIPTION:
URL:https://costaandthebluespin.com/event/live-at-https-deogtent-nl-product-de-ogtent-svs-live-music-night-2/
END:VEVENT
BEGIN:VEVENT
DTSTART;TZID=UTC:20240503T220000
DTEND;TZID=UTC:20240503T220000
DTSTAMP:20260422T123757
CREATED:20240414T182604Z
LAST-MODIFIED:20240430T143424Z
UID:47-1714773600-1714773600@costaandthebluespin.com
SUMMARY:LIVE at Café de Engelenbak\, Doetinchem
DESCRIPTION:
URL:https://costaandthebluespin.com/event/live-at-engelenbak/
END:VEVENT
END:VCALENDAR